BEGIN:VCALENDAR
VERSION:2.0
PRODID:-//Office for Victims of Crime//NONSGML Event Calendar//EN
BEGIN:VEVENT
UID:52d252cd-244c-406c-8039-5ce82a0dd399
DTSTART;TZID=UTC:20220223T190000
SEQUENCE:0
TRANSP:OPAQUE
DTEND;TZID=UTC:20220223T201500
LOCATION:https://www.ovc.ojp.gov/events/missing-and-murdered-indigenous-wom
 en-and-girls-expert-qa
SUMMARY:Missing and Murdered Indigenous Women and Girls Expert Q&A
CLASS:PUBLIC
DESCRIPTION:Learn more about this event: https://www.ovc.ojp.gov/events/mis
 sing-and-murdered-indigenous-women-and-girls-expert-qa
DTSTAMP:20260422T221546Z
END:VEVENT
END:VCALENDAR