BEGIN:VCALENDAR
VERSION:2.0
PRODID:-//Office for Victims of Crime//NONSGML Event Calendar//EN
BEGIN:VEVENT
UID:b8081a75-b68e-487e-a4e7-207ee67533f4
DTSTART;TZID=UTC:20220329T180000
SEQUENCE:0
TRANSP:OPAQUE
DTEND;TZID=UTC:20220329T191500
LOCATION:https://www.ovc.ojp.gov/events/establishing-victim-services-vicari
 ous-trauma-response-collaboratives-expert-qa
SUMMARY:Establishing Victim Services Vicarious Trauma Response Collaborativ
 es Expert Q&A
CLASS:PUBLIC
DESCRIPTION:Learn more about this event: https://www.ovc.ojp.gov/events/est
 ablishing-victim-services-vicarious-trauma-response-collaboratives-expert-
 qa
DTSTAMP:20260422T232254Z
END:VEVENT
END:VCALENDAR