BEGIN:VCALENDAR
VERSION:2.0
PRODID:-//Office for Victims of Crime//NONSGML Event Calendar//EN
BEGIN:VEVENT
UID:c5325a31-8536-44fa-8b2f-eaf2bc78fcc6
DTSTART;TZID=UTC:20220124T180000
SEQUENCE:0
TRANSP:OPAQUE
DTEND;TZID=UTC:20220124T193000
LOCATION:https://www.ovc.ojp.gov/events/ovc-materials-trafficked-youth-jour
 ney-through-and-beyond-legal-system
SUMMARY:OVC Materials for Trafficked Youth – A Journey Through (And Beyon
 d) the Legal System
CLASS:PUBLIC
DESCRIPTION:Learn more about this event: https://www.ovc.ojp.gov/events/ovc
 -materials-trafficked-youth-journey-through-and-beyond-legal-system
DTSTAMP:20260423T024622Z
END:VEVENT
END:VCALENDAR