BEGIN:VCALENDAR
VERSION:2.0
PRODID:-//Office for Victims of Crime//NONSGML Event Calendar//EN
BEGIN:VEVENT
UID:3b680e82-7328-433f-98ef-48f2ebc449d6
DTSTART;TZID=UTC:20220412T180000
SEQUENCE:0
TRANSP:OPAQUE
DTEND;TZID=UTC:20220412T190000
LOCATION:https://www.ovc.ojp.gov/events/justgrants-virtual-qa-entity-manage
 ment-27
SUMMARY:JustGrants Virtual Q&A: Entity Management 
CLASS:PUBLIC
DESCRIPTION:Learn more about this event: https://www.ovc.ojp.gov/events/jus
 tgrants-virtual-qa-entity-management-27
DTSTAMP:20260423T060944Z
END:VEVENT
END:VCALENDAR