BEGIN:VCALENDAR
VERSION:2.0
PRODID:-//Office for Victims of Crime//NONSGML Event Calendar//EN
BEGIN:VEVENT
UID:7d1d281d-e13d-4a48-a54e-e6d998533149
DTSTART;TZID=UTC:20220405T180000
SEQUENCE:0
TRANSP:OPAQUE
DTEND;TZID=UTC:20220405T190000
LOCATION:https://www.ovc.ojp.gov/events/justgrants-virtual-qa-entity-manage
 ment-26
SUMMARY:JustGrants Virtual Q&A: Entity Management
CLASS:PUBLIC
DESCRIPTION:Learn more about this event: https://www.ovc.ojp.gov/events/jus
 tgrants-virtual-qa-entity-management-26
DTSTAMP:20260423T061117Z
END:VEVENT
END:VCALENDAR