BEGIN:VCALENDAR
VERSION:2.0
PRODID:-//Office for Victims of Crime//NONSGML Event Calendar//EN
BEGIN:VEVENT
UID:6aaf6ce2-9250-4f30-a8e1-e917e3888bd3
DTSTART;TZID=UTC:20220503T180000
SEQUENCE:0
TRANSP:OPAQUE
DTEND;TZID=UTC:20220503T190000
LOCATION:https://www.ovc.ojp.gov/events/justgrants-virtual-qa-entity-manage
 ment-30
SUMMARY:JustGrants Virtual Q&A: Entity Management
CLASS:PUBLIC
DESCRIPTION:Learn more about this event: https://www.ovc.ojp.gov/events/jus
 tgrants-virtual-qa-entity-management-30
DTSTAMP:20260423T060954Z
END:VEVENT
END:VCALENDAR