BEGIN:VCALENDAR
VERSION:2.0
PRODID:-//Office for Victims of Crime//NONSGML Event Calendar//EN
BEGIN:VEVENT
UID:f5c537b0-c6b1-442b-98df-41eae84ae535
DTSTART;TZID=UTC:20220524T170000
SEQUENCE:0
TRANSP:OPAQUE
DTEND;TZID=UTC:20220524T180000
LOCATION:https://www.ovc.ojp.gov/events/ovc-fy-2022-expanding-access-sexual
 -assault-forensic-examinations-pre-application-webinar
SUMMARY:OVC FY 2022 Expanding Access to Sexual Assault Forensic Examination
 s Pre-Application Webinar
CLASS:PUBLIC
DESCRIPTION:Learn more about this event: https://www.ovc.ojp.gov/events/ovc
 -fy-2022-expanding-access-sexual-assault-forensic-examinations-pre-applica
 tion-webinar
DTSTAMP:20260422T222046Z
END:VEVENT
END:VCALENDAR