BEGIN:VCALENDAR
VERSION:2.0
PRODID:-//Office for Victims of Crime//NONSGML Event Calendar//EN
BEGIN:VEVENT
UID:2d96cc76-5164-489c-a9ea-96e6160276d3
DTSTART;TZID=UTC:20220628T180000
SEQUENCE:0
TRANSP:OPAQUE
DTEND;TZID=UTC:20220628T190000
LOCATION:https://www.ovc.ojp.gov/events/justgrants-virtual-qa-entity-manage
 ment-34
SUMMARY:JustGrants Virtual Q&A: Entity Management
CLASS:PUBLIC
DESCRIPTION:Learn more about this event: https://www.ovc.ojp.gov/events/jus
 tgrants-virtual-qa-entity-management-34
DTSTAMP:20260422T220920Z
END:VEVENT
END:VCALENDAR