BEGIN:VCALENDAR
VERSION:2.0
PRODID:-//Office for Victims of Crime//NONSGML Event Calendar//EN
BEGIN:VEVENT
UID:65247fb1-49d6-4a16-9fb4-280ba17de7c3
DTSTART;TZID=UTC:20220630T180000
SEQUENCE:0
TRANSP:OPAQUE
DTEND;TZID=UTC:20220630T200000
LOCATION:https://www.ovc.ojp.gov/events/intersections-secondary-traumatic-s
 tress-racism-historical-trauma-and-other-systems
SUMMARY:Intersections of Secondary Traumatic Stress with Racism\, Historica
 l Trauma\, and Other Systems of Oppression
CLASS:PUBLIC
DESCRIPTION:Learn more about this event: https://www.ovc.ojp.gov/events/int
 ersections-secondary-traumatic-stress-racism-historical-trauma-and-other-s
 ystems
DTSTAMP:20260422T232335Z
END:VEVENT
END:VCALENDAR