BEGIN:VCALENDAR
VERSION:2.0
PRODID:-//Office for Victims of Crime//NONSGML Event Calendar//EN
BEGIN:VEVENT
UID:f540b49c-9058-47bc-b8bc-b47b39816d6e
DTSTART;VALUE=DATE:20220627
SEQUENCE:0
TRANSP:OPAQUE
DTEND;VALUE=DATE:20220701
LOCATION:https://www.ovc.ojp.gov/events/national-sheriffs-association-annua
 l-conference-1
SUMMARY:National Sheriffs' Association Annual Conference
CLASS:PUBLIC
DESCRIPTION:Learn more about this event: https://www.ovc.ojp.gov/events/nat
 ional-sheriffs-association-annual-conference-1
X-MICROSOFT-CDO-ALLDAYEVENT:TRUE
DTSTAMP:20260422T221100Z
END:VEVENT
END:VCALENDAR