BEGIN:VCALENDAR
VERSION:2.0
PRODID:-//Office for Victims of Crime//NONSGML Event Calendar//EN
BEGIN:VEVENT
UID:9db413de-9298-4cf3-a852-b2ce5eb641ac
DTSTART;TZID=UTC:20220628T150000
SEQUENCE:0
TRANSP:OPAQUE
DTEND;TZID=UTC:20220628T201500
LOCATION:https://www.ovc.ojp.gov/events/protect-our-youth-online-virtual-ev
 ent-start-conversation
SUMMARY:Protect Our Youth Online: A Virtual Event to Start the Conversation
CLASS:PUBLIC
DESCRIPTION:Learn more about this event: https://www.ovc.ojp.gov/events/pro
 tect-our-youth-online-virtual-event-start-conversation
DTSTAMP:20260422T220341Z
END:VEVENT
END:VCALENDAR