BEGIN:VCALENDAR
VERSION:2.0
PRODID:-//Office for Victims of Crime//NONSGML Event Calendar//EN
BEGIN:VEVENT
UID:04e3991b-b2ca-4e0d-948e-4da23729b64f
DTSTART;VALUE=DATE:20220705
SEQUENCE:0
TRANSP:OPAQUE
DTEND;VALUE=DATE:20220729
LOCATION:https://www.ovc.ojp.gov/events/national-victim-assistance-academy-
 strategic-planning-program-managers-0
SUMMARY:National Victim Assistance Academy: Strategic Planning for Program 
 Managers
CLASS:PUBLIC
DESCRIPTION:Learn more about this event: https://www.ovc.ojp.gov/events/nat
 ional-victim-assistance-academy-strategic-planning-program-managers-0
X-MICROSOFT-CDO-ALLDAYEVENT:TRUE
DTSTAMP:20260422T233110Z
END:VEVENT
END:VCALENDAR