BEGIN:VCALENDAR
VERSION:2.0
PRODID:-//Office for Victims of Crime//NONSGML Event Calendar//EN
BEGIN:VEVENT
UID:ede362ce-0959-46e4-a137-e687ad4a8080
DTSTART;TZID=UTC:20220712T180000
SEQUENCE:0
TRANSP:OPAQUE
DTEND;TZID=UTC:20220712T190000
LOCATION:https://www.ovc.ojp.gov/events/justgrants-virtual-qa-entity-manage
 ment-39
SUMMARY:JustGrants Virtual Q&A: Entity Management
CLASS:PUBLIC
DESCRIPTION:Learn more about this event: https://www.ovc.ojp.gov/events/jus
 tgrants-virtual-qa-entity-management-39
DTSTAMP:20260423T061117Z
END:VEVENT
END:VCALENDAR