BEGIN:VCALENDAR
VERSION:2.0
PRODID:-//Office for Victims of Crime//NONSGML Event Calendar//EN
BEGIN:VEVENT
UID:658e8875-e8e1-4460-b37c-039e10e1b658
DTSTART;TZID=UTC:20220714T180000
SEQUENCE:0
TRANSP:OPAQUE
DTEND;TZID=UTC:20220714T190000
LOCATION:https://www.ovc.ojp.gov/events/justgrants-virtual-qa-award-accepta
 nce-36
SUMMARY:JustGrants Virtual Q&A: Award Acceptance
CLASS:PUBLIC
DESCRIPTION:Learn more about this event: https://www.ovc.ojp.gov/events/jus
 tgrants-virtual-qa-award-acceptance-36
DTSTAMP:20260423T061728Z
END:VEVENT
END:VCALENDAR