BEGIN:VCALENDAR
VERSION:2.0
PRODID:-//Office for Victims of Crime//NONSGML Event Calendar//EN
BEGIN:VEVENT
UID:a085d9ee-69c4-4a92-96f8-97f14476f4b1
DTSTART;TZID=UTC:20220726T180000
SEQUENCE:0
TRANSP:OPAQUE
DTEND;TZID=UTC:20220726T190000
LOCATION:https://www.ovc.ojp.gov/events/justgrants-virtual-qa-entity-manage
 ment-41
SUMMARY:JustGrants Virtual Q&A: Entity Management
CLASS:PUBLIC
DESCRIPTION:Learn more about this event: https://www.ovc.ojp.gov/events/jus
 tgrants-virtual-qa-entity-management-41
DTSTAMP:20260423T061157Z
END:VEVENT
END:VCALENDAR