BEGIN:VCALENDAR
VERSION:2.0
PRODID:-//Office for Victims of Crime//NONSGML Event Calendar//EN
BEGIN:VEVENT
UID:1bef0977-4fde-4dd5-9bd1-1149e5869c8f
DTSTART;TZID=UTC:20220831T183000
SEQUENCE:0
TRANSP:OPAQUE
DTEND;TZID=UTC:20220831T200000
LOCATION:https://www.ovc.ojp.gov/events/justgrants-virtual-qa-application-m
 echanics-submitting-application-training-29
SUMMARY:JustGrants Virtual Q&A: Application Mechanics: Submitting an Applic
 ation Training
CLASS:PUBLIC
DESCRIPTION:Learn more about this event: https://www.ovc.ojp.gov/events/jus
 tgrants-virtual-qa-application-mechanics-submitting-application-training-2
 9
DTSTAMP:20260423T023923Z
END:VEVENT
END:VCALENDAR