BEGIN:VCALENDAR
VERSION:2.0
PRODID:-//Office for Victims of Crime//NONSGML Event Calendar//EN
BEGIN:VEVENT
UID:7cadb88c-333b-47b7-b232-bd1dd29467a7
DTSTART;TZID=UTC:20220809T180000
SEQUENCE:0
TRANSP:OPAQUE
DTEND;TZID=UTC:20220809T190000
LOCATION:https://www.ovc.ojp.gov/events/justgrants-virtual-qa-entity-manage
 ment-43
SUMMARY:JustGrants Virtual Q&A: Entity Management
CLASS:PUBLIC
DESCRIPTION:Learn more about this event: https://www.ovc.ojp.gov/events/jus
 tgrants-virtual-qa-entity-management-43
DTSTAMP:20260423T023923Z
END:VEVENT
END:VCALENDAR