BEGIN:VCALENDAR
VERSION:2.0
PRODID:-//Office for Victims of Crime//NONSGML Event Calendar//EN
BEGIN:VEVENT
UID:be87c250-ccd8-42b7-a02e-6b67ad4fa678
DTSTART;TZID=UTC:20220810T183000
SEQUENCE:0
TRANSP:OPAQUE
DTEND;TZID=UTC:20220810T200000
LOCATION:https://www.ovc.ojp.gov/events/justgrants-virtual-qa-application-m
 echanics-submitting-application-training-26
SUMMARY:JustGrants Virtual Q&A: Application Mechanics: Submitting an Applic
 ation Training
CLASS:PUBLIC
DESCRIPTION:Learn more about this event: https://www.ovc.ojp.gov/events/jus
 tgrants-virtual-qa-application-mechanics-submitting-application-training-2
 6
DTSTAMP:20260423T023933Z
END:VEVENT
END:VCALENDAR