BEGIN:VCALENDAR
VERSION:2.0
PRODID:-//Office for Victims of Crime//NONSGML Event Calendar//EN
BEGIN:VEVENT
UID:0501b79c-c97e-4ffa-bce4-e3265166244d
DTSTART;TZID=UTC:20220822T170000
SEQUENCE:0
TRANSP:OPAQUE
DTEND;TZID=UTC:20220822T183000
LOCATION:https://www.ovc.ojp.gov/events/justgrants-virtual-qa-post-award-ma
 nagement-47
SUMMARY: JustGrants Virtual Q&A: Post-Award Management
CLASS:PUBLIC
DESCRIPTION:Learn more about this event: https://www.ovc.ojp.gov/events/jus
 tgrants-virtual-qa-post-award-management-47
DTSTAMP:20260423T023923Z
END:VEVENT
END:VCALENDAR