BEGIN:VCALENDAR
VERSION:2.0
PRODID:-//Office for Victims of Crime//NONSGML Event Calendar//EN
BEGIN:VEVENT
UID:fd3facae-5b3c-4216-827a-33474beb5868
DTSTART;TZID=UTC:20220817T183000
SEQUENCE:0
TRANSP:OPAQUE
DTEND;TZID=UTC:20220817T200000
LOCATION:https://www.ovc.ojp.gov/events/justgrants-virtual-qa-application-m
 echanics-submitting-application-training-27
SUMMARY:JustGrants Virtual Q&A: Application Mechanics: Submitting an Applic
 ation Training
CLASS:PUBLIC
DESCRIPTION:Learn more about this event: https://www.ovc.ojp.gov/events/jus
 tgrants-virtual-qa-application-mechanics-submitting-application-training-2
 7
DTSTAMP:20260423T023922Z
END:VEVENT
END:VCALENDAR