BEGIN:VCALENDAR
VERSION:2.0
PRODID:-//Office for Victims of Crime//NONSGML Event Calendar//EN
BEGIN:VEVENT
UID:7db96e39-b209-4903-9487-b34a5b606026
DTSTART;TZID=UTC:20220804T180000
SEQUENCE:0
TRANSP:OPAQUE
DTEND;TZID=UTC:20220804T190000
LOCATION:https://www.ovc.ojp.gov/events/justgrants-virtual-qa-award-accepta
 nce-39
SUMMARY:JustGrants Virtual Q&A: Award Acceptance
CLASS:PUBLIC
DESCRIPTION:Learn more about this event: https://www.ovc.ojp.gov/events/jus
 tgrants-virtual-qa-award-acceptance-39
DTSTAMP:20260423T023933Z
END:VEVENT
END:VCALENDAR