BEGIN:VCALENDAR
VERSION:2.0
PRODID:-//Office for Victims of Crime//NONSGML Event Calendar//EN
BEGIN:VEVENT
UID:ac4b9549-2e4b-460c-b4af-88a6537718db
DTSTART;TZID=UTC:20220824T183000
SEQUENCE:0
TRANSP:OPAQUE
DTEND;TZID=UTC:20220824T200000
LOCATION:https://www.ovc.ojp.gov/events/justgrants-virtual-qa-application-m
 echanics-submitting-application-training-28
SUMMARY:JustGrants Virtual Q&A: Application Mechanics: Submitting an Applic
 ation Training
CLASS:PUBLIC
DESCRIPTION:Learn more about this event: https://www.ovc.ojp.gov/events/jus
 tgrants-virtual-qa-application-mechanics-submitting-application-training-2
 8
DTSTAMP:20260423T023800Z
END:VEVENT
END:VCALENDAR