BEGIN:VCALENDAR
VERSION:2.0
PRODID:-//Office for Victims of Crime//NONSGML Event Calendar//EN
BEGIN:VEVENT
UID:ac3b323f-5cc1-44dc-b319-d932d1524988
DTSTART;TZID=UTC:20220727T180000
SEQUENCE:0
TRANSP:OPAQUE
DTEND;TZID=UTC:20220727T193000
LOCATION:https://www.ovc.ojp.gov/events/amber-alert-essentials-community-me
 mbers
SUMMARY:AMBER Alert Essentials for Community Members
CLASS:PUBLIC
DESCRIPTION:Learn more about this event: https://www.ovc.ojp.gov/events/amb
 er-alert-essentials-community-members
DTSTAMP:20260422T234547Z
END:VEVENT
END:VCALENDAR