BEGIN:VCALENDAR
VERSION:2.0
PRODID:-//Office for Victims of Crime//NONSGML Event Calendar//EN
BEGIN:VEVENT
UID:5c35b2e7-7a78-40b9-9f81-b919008898c4
DTSTART;TZID=UTC:20220913T180000
SEQUENCE:0
TRANSP:OPAQUE
DTEND;TZID=UTC:20220913T190000
LOCATION:https://www.ovc.ojp.gov/events/justgrants-virtual-qa-entity-manage
 ment-47
SUMMARY:JustGrants Virtual Q&A: Entity Management
CLASS:PUBLIC
DESCRIPTION:Learn more about this event: https://www.ovc.ojp.gov/events/jus
 tgrants-virtual-qa-entity-management-47
DTSTAMP:20260423T060954Z
END:VEVENT
END:VCALENDAR