BEGIN:VCALENDAR
VERSION:2.0
PRODID:-//Office for Victims of Crime//NONSGML Event Calendar//EN
BEGIN:VEVENT
UID:f518b2d5-08bf-4bc8-adb0-3fa937d10934
DTSTART;TZID=UTC:20220920T180000
SEQUENCE:0
TRANSP:OPAQUE
DTEND;TZID=UTC:20220920T190000
LOCATION:https://www.ovc.ojp.gov/events/justgrants-virtual-qa-entity-manage
 ment-48
SUMMARY:JustGrants Virtual Q&A: Entity Management
CLASS:PUBLIC
DESCRIPTION:Learn more about this event: https://www.ovc.ojp.gov/events/jus
 tgrants-virtual-qa-entity-management-48
DTSTAMP:20260423T061117Z
END:VEVENT
END:VCALENDAR