BEGIN:VCALENDAR
VERSION:2.0
PRODID:-//Office for Victims of Crime//NONSGML Event Calendar//EN
BEGIN:VEVENT
UID:cdd4fdaa-ed77-4a62-a8df-e7f1fe7434a4
DTSTART;TZID=UTC:20220922T180000
SEQUENCE:0
TRANSP:OPAQUE
DTEND;TZID=UTC:20220922T190000
LOCATION:https://www.ovc.ojp.gov/events/justgrants-virtual-qa-award-accepta
 nce-46
SUMMARY:JustGrants Virtual Q&A: Award Acceptance
CLASS:PUBLIC
DESCRIPTION:Learn more about this event: https://www.ovc.ojp.gov/events/jus
 tgrants-virtual-qa-award-acceptance-46
DTSTAMP:20260423T061728Z
END:VEVENT
END:VCALENDAR