BEGIN:VCALENDAR
VERSION:2.0
PRODID:-//Office for Victims of Crime//NONSGML Event Calendar//EN
BEGIN:VEVENT
UID:73e3fa47-6105-4023-a11a-e8fa94dda4ee
DTSTART;TZID=UTC:20220922T170000
SEQUENCE:0
TRANSP:OPAQUE
DTEND;TZID=UTC:20220922T180000
LOCATION:https://www.ovc.ojp.gov/events/ovc-fy-2022-jabara-heyer-no-hate-ac
 t-state-run-hate-crime-reporting-hotlines-pre-application
SUMMARY:OVC FY 2022 Jabara-Heyer NO HATE Act State-Run Hate Crime Reporting
  Hotlines Pre-Application Webinar
CLASS:PUBLIC
DESCRIPTION:Learn more about this event: https://www.ovc.ojp.gov/events/ovc
 -fy-2022-jabara-heyer-no-hate-act-state-run-hate-crime-reporting-hotlines-
 pre-application
DTSTAMP:20260422T220401Z
END:VEVENT
END:VCALENDAR