BEGIN:VCALENDAR
VERSION:2.0
PRODID:-//Office for Victims of Crime//NONSGML Event Calendar//EN
BEGIN:VEVENT
UID:a2055887-4a91-4fe5-b7e6-ba6298798c53
DTSTART;TZID=UTC:20221018T160000
SEQUENCE:0
TRANSP:OPAQUE
DTEND;TZID=UTC:20221018T170000
LOCATION:https://www.ovc.ojp.gov/events/ovc-fy-2022-jabara-heyer-no-hate-ac
 t-state-run-hate-crime-reporting-hotlines-pre-0
SUMMARY:OVC FY 2022 Jabara-Heyer NO HATE Act State-Run Hate Crime Reporting
  Hotlines Pre-Application Webinar 2
CLASS:PUBLIC
DESCRIPTION:Learn more about this event: https://www.ovc.ojp.gov/events/ovc
 -fy-2022-jabara-heyer-no-hate-act-state-run-hate-crime-reporting-hotlines-
 pre-0
DTSTAMP:20260422T220358Z
END:VEVENT
END:VCALENDAR