BEGIN:VCALENDAR
VERSION:2.0
PRODID:-//Office for Victims of Crime//NONSGML Event Calendar//EN
BEGIN:VEVENT
UID:7e1e6682-1bc6-4ba0-9c1e-d47d7e10d349
DTSTART;TZID=UTC:20221205T150000
SEQUENCE:0
TRANSP:OPAQUE
DTEND;TZID=UTC:20221209T220000
LOCATION:https://www.ovc.ojp.gov/events/forensic-interviewing-children-trai
 ning-4
SUMMARY:Forensic Interviewing of Children Training
CLASS:PUBLIC
DESCRIPTION:Learn more about this event: https://www.ovc.ojp.gov/events/for
 ensic-interviewing-children-training-4
DTSTAMP:20260422T234545Z
END:VEVENT
END:VCALENDAR