BEGIN:VCALENDAR
VERSION:2.0
PRODID:-//Office for Victims of Crime//NONSGML Event Calendar//EN
BEGIN:VEVENT
UID:3229ae56-6e51-45a9-87f9-537d27984889
DTSTART;TZID=UTC:20230403T140000
SEQUENCE:0
TRANSP:OPAQUE
DTEND;TZID=UTC:20230406T210000
LOCATION:https://www.ovc.ojp.gov/events/forensic-interviewing-children-trai
 ning-7
SUMMARY:Forensic Interviewing of Children Training
CLASS:PUBLIC
DESCRIPTION:Learn more about this event: https://www.ovc.ojp.gov/events/for
 ensic-interviewing-children-training-7
DTSTAMP:20260423T023933Z
END:VEVENT
END:VCALENDAR