BEGIN:VCALENDAR
VERSION:2.0
PRODID:-//Office for Victims of Crime//NONSGML Event Calendar//EN
BEGIN:VEVENT
UID:15ce2ac8-6ab5-4b5a-9aa4-1ae0f0f02a8d
DTSTART;TZID=UTC:20230710T140000
SEQUENCE:0
TRANSP:OPAQUE
DTEND;TZID=UTC:20230713T210000
LOCATION:https://www.ovc.ojp.gov/events/forensic-interviewing-children-trai
 ning-9
SUMMARY:Forensic Interviewing of Children Training
CLASS:PUBLIC
DESCRIPTION:Learn more about this event: https://www.ovc.ojp.gov/events/for
 ensic-interviewing-children-training-9
DTSTAMP:20260422T233132Z
END:VEVENT
END:VCALENDAR