BEGIN:VCALENDAR
VERSION:2.0
PRODID:-//Office for Victims of Crime//NONSGML Event Calendar//EN
BEGIN:VEVENT
UID:235e939e-1ad1-4429-915b-1972401455ca
DTSTART;TZID=UTC:20230612T140000
SEQUENCE:0
TRANSP:OPAQUE
DTEND;TZID=UTC:20230615T210000
LOCATION:https://www.ovc.ojp.gov/events/forensic-interviewing-children-trai
 ning-6
SUMMARY:Forensic Interviewing of Children Training
CLASS:PUBLIC
DESCRIPTION:Learn more about this event: https://www.ovc.ojp.gov/events/for
 ensic-interviewing-children-training-6
DTSTAMP:20260423T023933Z
END:VEVENT
END:VCALENDAR