BEGIN:VCALENDAR
VERSION:2.0
PRODID:-//Office for Victims of Crime//NONSGML Event Calendar//EN
BEGIN:VEVENT
UID:9f697492-eabb-4c77-a149-42a9f3dd6215
DTSTART;TZID=UTC:20230213T150000
SEQUENCE:0
TRANSP:OPAQUE
DTEND;TZID=UTC:20230216T220000
LOCATION:https://www.ovc.ojp.gov/events/forensic-interviewing-children-trai
 ning-5
SUMMARY:Forensic Interviewing of Children Training
CLASS:PUBLIC
DESCRIPTION:Learn more about this event: https://www.ovc.ojp.gov/events/for
 ensic-interviewing-children-training-5
DTSTAMP:20260423T023933Z
END:VEVENT
END:VCALENDAR