BEGIN:VCALENDAR
VERSION:2.0
PRODID:-//Office for Victims of Crime//NONSGML Event Calendar//EN
BEGIN:VEVENT
UID:ca4e0318-1396-4b2a-9294-725dadca9df0
DTSTART;TZID=UTC:20230501T140000
SEQUENCE:0
TRANSP:OPAQUE
DTEND;TZID=UTC:20230504T210000
LOCATION:https://www.ovc.ojp.gov/events/forensic-interviewing-children-trai
 ning-8
SUMMARY:Forensic Interviewing of Children Training
CLASS:PUBLIC
DESCRIPTION:Learn more about this event: https://www.ovc.ojp.gov/events/for
 ensic-interviewing-children-training-8
DTSTAMP:20260423T023922Z
END:VEVENT
END:VCALENDAR