BEGIN:VCALENDAR
VERSION:2.0
PRODID:-//Office for Victims of Crime//NONSGML Event Calendar//EN
BEGIN:VEVENT
UID:932eb4e4-4cd5-4792-9092-3cd62527a1a4
DTSTART;TZID=UTC:20230223T200000
SEQUENCE:0
TRANSP:OPAQUE
DTEND;TZID=UTC:20230223T213000
LOCATION:https://www.ovc.ojp.gov/events/fifth-virtual-national-town-hall-ha
 te-motivated-mass-violence-crimes-addressing-victim
SUMMARY:Fifth Virtual National Town Hall: Hate-Motivated Mass Violence Crim
 es: Addressing Victim\, Survivor & Community Impact
CLASS:PUBLIC
DESCRIPTION:Learn more about this event: https://www.ovc.ojp.gov/events/fif
 th-virtual-national-town-hall-hate-motivated-mass-violence-crimes-addressi
 ng-victim
DTSTAMP:20260422T220504Z
END:VEVENT
END:VCALENDAR