BEGIN:VCALENDAR
VERSION:2.0
PRODID:-//Office for Victims of Crime//NONSGML Event Calendar//EN
BEGIN:VEVENT
UID:49513118-d3bc-4b59-b976-9a4c6ccd3a24
DTSTART;TZID=UTC:20230329T170000
SEQUENCE:0
TRANSP:OPAQUE
DTEND;TZID=UTC:20230329T180000
LOCATION:https://www.ovc.ojp.gov/events/ovc-fy-2023-anti-trafficking-fundin
 g-opportunities-webinar-3
SUMMARY:OVC FY 2023 Anti-Trafficking Funding Opportunities Webinar 2
CLASS:PUBLIC
DESCRIPTION:Learn more about this event: https://www.ovc.ojp.gov/events/ovc
 -fy-2023-anti-trafficking-funding-opportunities-webinar-3
DTSTAMP:20260422T215049Z
END:VEVENT
END:VCALENDAR