BEGIN:VCALENDAR
VERSION:2.0
PRODID:-//Office for Victims of Crime//NONSGML Event Calendar//EN
BEGIN:VEVENT
UID:1e195932-898c-4ccb-bbc9-f9970765f484
DTSTART;VALUE=DATE:20230613
SEQUENCE:0
TRANSP:OPAQUE
DTEND;VALUE=DATE:20230616
LOCATION:https://www.ovc.ojp.gov/events/beyond-basics-advancing-human-traff
 icking-investigations-and-prosecutions-0
SUMMARY:Beyond the Basics: Advancing Human Trafficking Investigations and P
 rosecutions
CLASS:PUBLIC
DESCRIPTION:Learn more about this event: https://www.ovc.ojp.gov/events/bey
 ond-basics-advancing-human-trafficking-investigations-and-prosecutions-0
X-MICROSOFT-CDO-ALLDAYEVENT:TRUE
DTSTAMP:20260422T215049Z
END:VEVENT
END:VCALENDAR