BEGIN:VCALENDAR
VERSION:2.0
PRODID:-//Office for Victims of Crime//NONSGML Event Calendar//EN
BEGIN:VEVENT
UID:5cae1f59-510f-4ada-ac5a-070a1d3b66fd
DTSTART;TZID=UTC:20230322T180000
SEQUENCE:0
TRANSP:OPAQUE
DTEND;TZID=UTC:20230322T191500
LOCATION:https://www.ovc.ojp.gov/events/understanding-connections-between-w
 orkplace-bullying-and-burnout-among-victim-advocates
SUMMARY:Understanding the Connections Between Workplace Bullying and Burnou
 t Among Victim Advocates
CLASS:PUBLIC
DESCRIPTION:Learn more about this event: https://www.ovc.ojp.gov/events/und
 erstanding-connections-between-workplace-bullying-and-burnout-among-victim
 -advocates
DTSTAMP:20260422T232254Z
END:VEVENT
END:VCALENDAR