BEGIN:VCALENDAR
VERSION:2.0
PRODID:-//Office for Victims of Crime//NONSGML Event Calendar//EN
BEGIN:VEVENT
UID:b51cb259-ff7c-44f6-9db9-f5ac2988adf6
DTSTART;TZID=UTC:20230412T190000
SEQUENCE:0
TRANSP:OPAQUE
DTEND;TZID=UTC:20230412T200000
LOCATION:https://www.ovc.ojp.gov/events/ovc-fy-2023-culturally-responsive-v
 ictim-services-fellowship-pre-application-webinar
SUMMARY:OVC FY 2023 Culturally Responsive Victim Services Fellowship Pre-Ap
 plication Webinar
CLASS:PUBLIC
DESCRIPTION:Learn more about this event: https://www.ovc.ojp.gov/events/ovc
 -fy-2023-culturally-responsive-victim-services-fellowship-pre-application-
 webinar
DTSTAMP:20260423T011632Z
END:VEVENT
END:VCALENDAR