BEGIN:VCALENDAR
VERSION:2.0
PRODID:-//Office for Victims of Crime//NONSGML Event Calendar//EN
BEGIN:VEVENT
UID:45d0ce75-a013-4488-9b9f-4e9aea4af10d
DTSTART;TZID=UTC:20230418T190000
SEQUENCE:0
TRANSP:OPAQUE
DTEND;TZID=UTC:20230418T200000
LOCATION:https://www.ovc.ojp.gov/events/ovc-fy-2023-transforming-americas-r
 esponse-elder-abuse-enhanced-multidisciplinary-teams
SUMMARY:OVC FY 2023 Transforming America’s Response to Elder Abuse: Enhan
 ced Multidisciplinary Teams (E-MDTs) for Older Victims of Abuse and Financ
 ial Exploitation and T&TA Pre-Application Webinar
CLASS:PUBLIC
DESCRIPTION:Learn more about this event: https://www.ovc.ojp.gov/events/ovc
 -fy-2023-transforming-americas-response-elder-abuse-enhanced-multidiscipli
 nary-teams
DTSTAMP:20260422T214952Z
END:VEVENT
END:VCALENDAR