BEGIN:VCALENDAR
VERSION:2.0
PRODID:-//Office for Victims of Crime//NONSGML Event Calendar//EN
BEGIN:VEVENT
UID:86bf6d28-28ed-4f99-ab2d-2294fd1fb16f
DTSTART;TZID=UTC:20230503T170000
SEQUENCE:0
TRANSP:OPAQUE
DTEND;TZID=UTC:20230503T180000
LOCATION:https://www.ovc.ojp.gov/events/ovc-fy-2023-national-resource-cente
 rs-victim-research-evaluation-and-reaching-underserved
SUMMARY:OVC FY 2023 National Resource Centers for Victim Research\, Evaluat
 ion\, and Reaching Underserved Victims Pre-Application Webinar
CLASS:PUBLIC
DESCRIPTION:Learn more about this event: https://www.ovc.ojp.gov/events/ovc
 -fy-2023-national-resource-centers-victim-research-evaluation-and-reaching
 -underserved
DTSTAMP:20260422T215827Z
END:VEVENT
END:VCALENDAR