BEGIN:VCALENDAR
VERSION:2.0
PRODID:-//Office for Victims of Crime//NONSGML Event Calendar//EN
BEGIN:VEVENT
UID:166abe25-855e-4b90-9103-2c9fc841384b
DTSTART;TZID=UTC:20230424T153000
SEQUENCE:0
TRANSP:OPAQUE
DTEND;TZID=UTC:20230424T173000
LOCATION:https://www.ovc.ojp.gov/events/youth-advocacy-corps-town-hall
SUMMARY:Youth Advocacy Corps Town Hall
CLASS:PUBLIC
DESCRIPTION:Learn more about this event: https://www.ovc.ojp.gov/events/you
 th-advocacy-corps-town-hall
DTSTAMP:20260422T235356Z
END:VEVENT
END:VCALENDAR