BEGIN:VCALENDAR
VERSION:2.0
PRODID:-//Office for Victims of Crime//NONSGML Event Calendar//EN
BEGIN:VEVENT
UID:3c171903-6a38-49fe-95ba-580456cb06a0
DTSTART;TZID=UTC:20230518T170000
SEQUENCE:0
TRANSP:OPAQUE
DTEND;TZID=UTC:20230518T180000
LOCATION:https://www.ovc.ojp.gov/events/ovc-fy-2023-developing-future-victi
 m-specialists-serve-american-indianalaska-native-victims
SUMMARY:OVC FY 2023 Developing Future Victim Specialists to Serve American 
 Indian/Alaska Native Victims of Crime Pre-Application Webinar
CLASS:PUBLIC
DESCRIPTION:Learn more about this event: https://www.ovc.ojp.gov/events/ovc
 -fy-2023-developing-future-victim-specialists-serve-american-indianalaska-
 native-victims
DTSTAMP:20260422T220451Z
END:VEVENT
END:VCALENDAR