BEGIN:VCALENDAR
VERSION:2.0
PRODID:-//Office for Victims of Crime//NONSGML Event Calendar//EN
BEGIN:VEVENT
UID:5a476df9-6c93-4d46-9997-66818ac07fb5
DTSTART;TZID=UTC:20230524T170000
SEQUENCE:0
TRANSP:OPAQUE
DTEND;TZID=UTC:20230524T180000
LOCATION:https://www.ovc.ojp.gov/events/ovc-fy-2023-targeted-training-and-t
 echnical-assistance-voca-victim-assistance-and
SUMMARY:OVC FY 2023 Targeted Training and Technical Assistance for VOCA Vic
 tim Assistance and Compensation Administrators Pre-Application Webinar
CLASS:PUBLIC
DESCRIPTION:Learn more about this event: https://www.ovc.ojp.gov/events/ovc
 -fy-2023-targeted-training-and-technical-assistance-voca-victim-assistance
 -and
DTSTAMP:20260422T233916Z
END:VEVENT
END:VCALENDAR