BEGIN:VCALENDAR
VERSION:2.0
PRODID:-//Office for Victims of Crime//NONSGML Event Calendar//EN
BEGIN:VEVENT
UID:cf1491eb-f737-4875-b051-6acc47d20a19
DTSTART;TZID=UTC:20230927T130000
SEQUENCE:0
TRANSP:OPAQUE
DTEND;TZID=UTC:20230927T200000
LOCATION:https://www.ovc.ojp.gov/events/celebrate-50-years-national-crime-v
 ictimization-survey
SUMMARY:Celebrate 50 Years of the National Crime Victimization Survey
CLASS:PUBLIC
DESCRIPTION:Learn more about this event: https://www.ovc.ojp.gov/events/cel
 ebrate-50-years-national-crime-victimization-survey
DTSTAMP:20260422T220357Z
END:VEVENT
END:VCALENDAR