BEGIN:VCALENDAR
VERSION:2.0
PRODID:-//Office for Victims of Crime//NONSGML Event Calendar//EN
BEGIN:VEVENT
UID:b0281d38-436f-438d-9271-fd02db63b828
DTSTART;TZID=UTC:20231010T190000
SEQUENCE:0
TRANSP:OPAQUE
DTEND;TZID=UTC:20231010T200000
LOCATION:https://www.ovc.ojp.gov/events/enhancing-law-enforcement-response-
 victims-learning-collaborations-1
SUMMARY:Enhancing Law Enforcement Response to Victims Learning Collaboratio
 ns
CLASS:PUBLIC
DESCRIPTION:Learn more about this event: https://www.ovc.ojp.gov/events/enh
 ancing-law-enforcement-response-victims-learning-collaborations-1
DTSTAMP:20260422T220448Z
END:VEVENT
END:VCALENDAR