BEGIN:VCALENDAR
VERSION:2.0
PRODID:-//Office for Victims of Crime//NONSGML Event Calendar//EN
BEGIN:VEVENT
UID:e9ce0e64-7a97-418e-8649-b46bd5e72cc2
DTSTART;TZID=UTC:20230808T190000
SEQUENCE:0
TRANSP:OPAQUE
DTEND;TZID=UTC:20230808T200000
LOCATION:https://www.ovc.ojp.gov/events/enhancing-law-enforcement-response-
 victims-learning-collaborations
SUMMARY:Enhancing Law Enforcement Response to Victims Learning Collaboratio
 ns
CLASS:PUBLIC
DESCRIPTION:Learn more about this event: https://www.ovc.ojp.gov/events/enh
 ancing-law-enforcement-response-victims-learning-collaborations
DTSTAMP:20260422T220451Z
END:VEVENT
END:VCALENDAR