BEGIN:VCALENDAR
VERSION:2.0
PRODID:-//Office for Victims of Crime//NONSGML Event Calendar//EN
BEGIN:VEVENT
UID:5b1a4ed9-d09d-4e5f-9e81-5fd9ed5e929e
DTSTART;TZID=UTC:20231114T200000
SEQUENCE:0
TRANSP:OPAQUE
DTEND;TZID=UTC:20231114T210000
LOCATION:https://www.ovc.ojp.gov/events/enhancing-law-enforcement-response-
 victims-learning-collaborations-2
SUMMARY:Enhancing Law Enforcement Response to Victims Learning Collaboratio
 ns
CLASS:PUBLIC
DESCRIPTION:Learn more about this event: https://www.ovc.ojp.gov/events/enh
 ancing-law-enforcement-response-victims-learning-collaborations-2
DTSTAMP:20260422T220504Z
END:VEVENT
END:VCALENDAR