BEGIN:VCALENDAR
VERSION:2.0
PRODID:-//Office for Victims of Crime//NONSGML Event Calendar//EN
BEGIN:VEVENT
UID:dfbf9807-6331-4d56-b285-a289ce97379d
DTSTART;TZID=UTC:20230809T190000
SEQUENCE:0
TRANSP:OPAQUE
DTEND;TZID=UTC:20230809T200000
LOCATION:https://www.ovc.ojp.gov/events/law-enforcement-based-victim-servic
 es-learning-collaborations
SUMMARY:Law Enforcement-Based Victim Services Learning Collaborations
CLASS:PUBLIC
DESCRIPTION:Learn more about this event: https://www.ovc.ojp.gov/events/law
 -enforcement-based-victim-services-learning-collaborations
DTSTAMP:20260422T220450Z
END:VEVENT
END:VCALENDAR