BEGIN:VCALENDAR
VERSION:2.0
PRODID:-//Office for Victims of Crime//NONSGML Event Calendar//EN
BEGIN:VEVENT
UID:5ae00e0d-c9f9-41ba-b653-7a24621a7dba
DTSTART;TZID=UTC:20231011T190000
SEQUENCE:0
TRANSP:OPAQUE
DTEND;TZID=UTC:20231011T200000
LOCATION:https://www.ovc.ojp.gov/events/law-enforcement-based-victim-servic
 es-learning-collaborations-1
SUMMARY:Law Enforcement-Based Victim Services Learning Collaborations
CLASS:PUBLIC
DESCRIPTION:Learn more about this event: https://www.ovc.ojp.gov/events/law
 -enforcement-based-victim-services-learning-collaborations-1
DTSTAMP:20260422T220401Z
END:VEVENT
END:VCALENDAR